BEGIN:VCALENDAR
VERSION:2.0
PRODID:-//Rausch e.V. - ECPv6.15.19//NONSGML v1.0//EN
CALSCALE:GREGORIAN
METHOD:PUBLISH
X-WR-CALNAME:Rausch e.V.
X-ORIGINAL-URL:https://rausch-ev.de
X-WR-CALDESC:Veranstaltungen für Rausch e.V.
REFRESH-INTERVAL;VALUE=DURATION:PT1H
X-Robots-Tag:noindex
X-PUBLISHED-TTL:PT1H
BEGIN:VTIMEZONE
TZID:Europe/Berlin
BEGIN:DAYLIGHT
TZOFFSETFROM:+0100
TZOFFSETTO:+0200
TZNAME:CEST
DTSTART:20240331T010000
END:DAYLIGHT
BEGIN:STANDARD
TZOFFSETFROM:+0200
TZOFFSETTO:+0100
TZNAME:CET
DTSTART:20241027T010000
END:STANDARD
BEGIN:DAYLIGHT
TZOFFSETFROM:+0100
TZOFFSETTO:+0200
TZNAME:CEST
DTSTART:20250330T010000
END:DAYLIGHT
BEGIN:STANDARD
TZOFFSETFROM:+0200
TZOFFSETTO:+0100
TZNAME:CET
DTSTART:20251026T010000
END:STANDARD
BEGIN:DAYLIGHT
TZOFFSETFROM:+0100
TZOFFSETTO:+0200
TZNAME:CEST
DTSTART:20260329T010000
END:DAYLIGHT
BEGIN:STANDARD
TZOFFSETFROM:+0200
TZOFFSETTO:+0100
TZNAME:CET
DTSTART:20261025T010000
END:STANDARD
END:VTIMEZONE
BEGIN:VEVENT
DTSTART;TZID=Europe/Berlin:20250823T110000
DTEND;TZID=Europe/Berlin:20250823T160000
DTSTAMP:20260421T045848
CREATED:20250710T112955Z
LAST-MODIFIED:20260220T142130Z
UID:206-1755946800-1755964800@rausch-ev.de
SUMMARY:Spendenaktion zum Aktionstag Klettern für Menschen mit Behinderung
DESCRIPTION:Wir unterstützen den Aktionstag Klettern für Menschen mit Behinderung im Kletterzentrum Wetzlar! Frische Waffeln werden verteilt und Spenden für die DAV Wetzlar eigene Paraclimbing-Gruppe gesammelt. \nKommt vorbei um die Sportler:innen zu unterstützen!
URL:https://rausch-ev.de/event/spendenaktion-zum-aktionstag-klettern-fuer-menschen-mit-behinderung/
CATEGORIES:Externe Veranstaltungen,öffentlich
END:VEVENT
END:VCALENDAR