BEGIN:VCALENDAR
VERSION:2.0
PRODID:-//Rausch e.V. - ECPv6.15.19//NONSGML v1.0//EN
CALSCALE:GREGORIAN
METHOD:PUBLISH
X-WR-CALNAME:Rausch e.V.
X-ORIGINAL-URL:https://rausch-ev.de
X-WR-CALDESC:Veranstaltungen für Rausch e.V.
REFRESH-INTERVAL;VALUE=DURATION:PT1H
X-Robots-Tag:noindex
X-PUBLISHED-TTL:PT1H
BEGIN:VTIMEZONE
TZID:Europe/Berlin
BEGIN:DAYLIGHT
TZOFFSETFROM:+0100
TZOFFSETTO:+0200
TZNAME:CEST
DTSTART:20240331T010000
END:DAYLIGHT
BEGIN:STANDARD
TZOFFSETFROM:+0200
TZOFFSETTO:+0100
TZNAME:CET
DTSTART:20241027T010000
END:STANDARD
BEGIN:DAYLIGHT
TZOFFSETFROM:+0100
TZOFFSETTO:+0200
TZNAME:CEST
DTSTART:20250330T010000
END:DAYLIGHT
BEGIN:STANDARD
TZOFFSETFROM:+0200
TZOFFSETTO:+0100
TZNAME:CET
DTSTART:20251026T010000
END:STANDARD
BEGIN:DAYLIGHT
TZOFFSETFROM:+0100
TZOFFSETTO:+0200
TZNAME:CEST
DTSTART:20260329T010000
END:DAYLIGHT
BEGIN:STANDARD
TZOFFSETFROM:+0200
TZOFFSETTO:+0100
TZNAME:CET
DTSTART:20261025T010000
END:STANDARD
END:VTIMEZONE
BEGIN:VEVENT
DTSTART;TZID=Europe/Berlin:20251017T200000
DTEND;TZID=Europe/Berlin:20251018T033000
DTSTAMP:20260421T013333
CREATED:20251001T142205Z
LAST-MODIFIED:20260220T142123Z
UID:261-1760731200-1760758200@rausch-ev.de
SUMMARY:ASTA-Party Friedberg
DESCRIPTION:Das neue Semester ist da – und das feiern wir gemeinsam mit der größten Party in Friedberg! 🎶\nUnter dem Motto NEON wird die Mensa am 17.10 in einen leuchtenden Dancefloor verwandelt. Zieht euch bunt an und bringt eure Freund*innen mit – die Nacht gehört uns! \nDer RAUSCH e.V. unterstützt die AStA-Party\, indem er die Theken-Crew bildet und beim Auf- und Abbau mithilft. Jedes unserer Mitglieder kann mitmachen und erhält dafür kostenlosen Eintritt sowie flüssige Verpflegung\, schreib dafür einfach dem Vorstand und schon bist du dabei. \nFür alle anderen gibt es ab dem 06.10. Tickets lim AStA-Shop Friedberg:\nStudierende: 3 €\nNicht-Studierende: 8 € \nAn der Abendkasse kosten die Tickets 8 € (Studierende) bzw. 10 € (Nicht-Studierende). \n\nWir freuen uns über jeden\, der mitkommt. Egal ob zur Unterstützung unserer Crew oder um einfach nur um dabei zu sein\, Spaß zu haben und Leute kennenzulernen .
URL:https://rausch-ev.de/event/asta-party-friedberg/
LOCATION:Mensa THM Friedberg\, Wilhelm-Leuschner-Straße 13\, Friedberg\, Hessen\, 61169\, Germany
CATEGORIES:Externe Veranstaltungen,öffentlich,Party
END:VEVENT
END:VCALENDAR