BEGIN:VCALENDAR
VERSION:2.0
PRODID:-//Rausch e.V. - ECPv6.15.19//NONSGML v1.0//EN
CALSCALE:GREGORIAN
METHOD:PUBLISH
X-ORIGINAL-URL:https://rausch-ev.de
X-WR-CALDESC:Veranstaltungen für Rausch e.V.
REFRESH-INTERVAL;VALUE=DURATION:PT1H
X-Robots-Tag:noindex
X-PUBLISHED-TTL:PT1H
BEGIN:VTIMEZONE
TZID:Europe/Berlin
BEGIN:DAYLIGHT
TZOFFSETFROM:+0100
TZOFFSETTO:+0200
TZNAME:CEST
DTSTART:20250330T010000
END:DAYLIGHT
BEGIN:STANDARD
TZOFFSETFROM:+0200
TZOFFSETTO:+0100
TZNAME:CET
DTSTART:20251026T010000
END:STANDARD
BEGIN:DAYLIGHT
TZOFFSETFROM:+0100
TZOFFSETTO:+0200
TZNAME:CEST
DTSTART:20260329T010000
END:DAYLIGHT
BEGIN:STANDARD
TZOFFSETFROM:+0200
TZOFFSETTO:+0100
TZNAME:CET
DTSTART:20261025T010000
END:STANDARD
BEGIN:DAYLIGHT
TZOFFSETFROM:+0100
TZOFFSETTO:+0200
TZNAME:CEST
DTSTART:20270328T010000
END:DAYLIGHT
BEGIN:STANDARD
TZOFFSETFROM:+0200
TZOFFSETTO:+0100
TZNAME:CET
DTSTART:20271031T010000
END:STANDARD
END:VTIMEZONE
BEGIN:VEVENT
DTSTART;TZID=Europe/Berlin:20260401T193000
DTEND;TZID=Europe/Berlin:20260401T230000
DTSTAMP:20260420T160708
CREATED:20260320T103615Z
LAST-MODIFIED:20260330T112247Z
UID:504-1775071800-1775084400@rausch-ev.de
SUMMARY:Gießener Kneipenkultur: Dein Abend im Irish! 🍻✨
DESCRIPTION:Lust auf einen Abend\, der sich nicht nach Verpflichtung\, sondern nach Feierabend mit Freunden anfühlt? Wir laden dich ein\, mit dem RAUSCH e.V. in den legendären Irish Pub einzutauchen! \nHier erwartet dich kein steifer Stammtisch\, sondern echte Gießener Urigkeit. Zwischen dunklem Holz\, dem Duft von gutem Essen und dem Klirren der Gläser steht bei uns das Miteinander im Fokus. Egal\, ob du tiefgründig über Gott und die Welt philosophieren willst\, neue Kontakte in Gießen suchst oder einfach nur bei einem eiskalten Getränk abschalten möchtest – an unserem Tisch ist immer ein Platz für dich reserviert. \nDu kennst uns noch nicht? Umso besser!\nJeder ist willkommen – auch wenn du (noch) kein Mitglied im Verein bist. Unser Abend im Irish ist die perfekte Gelegenheit\, ganz unverbindlich bei uns reinzuschnuppern\, Fragen zu stellen oder einfach nur die Stimmung zu genießen. Wir sind ein bunter\, offener Haufen und freuen uns über jedes neue Gesicht\, das unsere Runde bereichert. \nUnd wer weiß? Vielleicht ist das genau der Abend\, an dem du deine neue Lieblingsclique in Gießen findest. Falls es dir bei uns gefällt\, kannst du natürlich jederzeit   	offiziell Teil des Teams werden. \nKomm vorbei\, schnapp dir ein Getränk und lass uns gemeinsam einen unvergesslichen Abend haben. Wir freuen uns auf dich!
URL:https://rausch-ev.de/event/abend-im-irish/
LOCATION:Irish Pub Gießen\, Walltorstraße 27\, Gießen\, 35390\, Germany
CATEGORIES:öffentlich
ATTACH;FMTTYPE=image/png:https://rausch-ev.de/wp-content/uploads/2026/03/20260322_CUT-Barabend.png
ORGANIZER;CN="RAUSCH e.V.":MAILTO:info@rausch-ev.de
END:VEVENT
END:VCALENDAR