BEGIN:VCALENDAR
VERSION:2.0
PRODID:-//Rausch e.V. - ECPv6.15.19//NONSGML v1.0//EN
CALSCALE:GREGORIAN
METHOD:PUBLISH
X-WR-CALNAME:Rausch e.V.
X-ORIGINAL-URL:https://rausch-ev.de
X-WR-CALDESC:Veranstaltungen für Rausch e.V.
REFRESH-INTERVAL;VALUE=DURATION:PT1H
X-Robots-Tag:noindex
X-PUBLISHED-TTL:PT1H
BEGIN:VTIMEZONE
TZID:Europe/Berlin
BEGIN:DAYLIGHT
TZOFFSETFROM:+0100
TZOFFSETTO:+0200
TZNAME:CEST
DTSTART:20250330T010000
END:DAYLIGHT
BEGIN:STANDARD
TZOFFSETFROM:+0200
TZOFFSETTO:+0100
TZNAME:CET
DTSTART:20251026T010000
END:STANDARD
BEGIN:DAYLIGHT
TZOFFSETFROM:+0100
TZOFFSETTO:+0200
TZNAME:CEST
DTSTART:20260329T010000
END:DAYLIGHT
BEGIN:STANDARD
TZOFFSETFROM:+0200
TZOFFSETTO:+0100
TZNAME:CET
DTSTART:20261025T010000
END:STANDARD
BEGIN:DAYLIGHT
TZOFFSETFROM:+0100
TZOFFSETTO:+0200
TZNAME:CEST
DTSTART:20270328T010000
END:DAYLIGHT
BEGIN:STANDARD
TZOFFSETFROM:+0200
TZOFFSETTO:+0100
TZNAME:CET
DTSTART:20271031T010000
END:STANDARD
END:VTIMEZONE
BEGIN:VEVENT
DTSTART;TZID=Europe/Berlin:20260507T170000
DTEND;TZID=Europe/Berlin:20260507T233000
DTSTAMP:20260420T113720
CREATED:20260319T113526Z
LAST-MODIFIED:20260408T090522Z
UID:484-1778173200-1778196600@rausch-ev.de
SUMMARY:TEAM RAUSCH beim Barbachelor Gießen SoSem 26
DESCRIPTION:Bist du bereit für die legendärste Kneipentour des Semesters? 🍻🎓 \nAm 07.05.2026 verwandelt sich Gießen wieder in einen riesigen Campus der Gastfreundschaft – es ist BARBACHELOR-Zeit! Und eines ist klar: Niemand zieht so stilvoll und mit so viel guter Laune durch die Bars wie das TEAM RAUSCH. \nWir laden dich ein\, Teil unserer exklusiven Gruppe zu werden. Gemeinsam steuern wir die besten Kneipen an\, sammeln fleißig Stempel und sichern uns am Ende das wohl verdienteste Diplom des Sommersemesters. \nWarum du mit TEAM RAUSCH mitziehen solltest: \nGemeinschaft statt Einzelkampf: Warum alleine losziehen\, wenn man im Team die beste Stimmung hat? \nStressfreie Organisation: Wir kümmern uns um die Sammelbestellung! \nNetworking: Lerne andere Vereinsmitglieder in entspannter Atmosphäre bei einem Kaltgetränk kennen. \nWichtig: Die Sammelbestellung!\nDamit wir alle gemeinsam starten können\, organisieren wir wieder eine Sammelbestellung für die Tickets (Preis: 6\,80 €).\n📅 Deadline: Melde dich bis spätestens 29.03.2026 beim Vorstand\, um dir dein Ticket über uns zu sichern. \nDu hast schon ein Ticket? Kein Problem! Melde dich trotzdem kurz bei uns\, damit wir dich in unsere Planung und die WhatsApp-Gruppe aufnehmen können. \nNoch kein Mitglied?\nDer Barbachelor mit TEAM RAUSCH ist ein Erlebnis für sich. Falls du noch kein Mitglied im Rausch e.V. bist\, ist das die perfekte Gelegenheit\, beizutreten und direkt mit uns durchzustarten. Hier geht’s zum Mitgliedsantrag.
URL:https://rausch-ev.de/event/team-rausch-beim-barbachelor-giesen-im-sosem26/
LOCATION:Irish Pub Gießen\, Walltorstraße 27\, Gießen\, 35390\, Germany
CATEGORIES:Externe Veranstaltungen,öffentlich
ATTACH;FMTTYPE=image/png:https://rausch-ev.de/wp-content/uploads/2026/03/Gemini_Generated_Image_vgel59vgel59vgel.png
END:VEVENT
BEGIN:VEVENT
DTSTART;TZID=Europe/Berlin:20260523T100000
DTEND;TZID=Europe/Berlin:20260523T180000
DTSTAMP:20260420T113720
CREATED:20260319T113955Z
LAST-MODIFIED:20260325T144954Z
UID:487-1779530400-1779559200@rausch-ev.de
SUMMARY:Maiwanderung 2026 RAUSCH e.V.
DESCRIPTION:Wanderschuhe geschnürt und Kaltgetränke eingepackt! ☀️🥾 \nAm 23.05.2026 ist es endlich so weit: Der RAUSCH e.V. lädt zur (vielleicht etwas verspäteten\, aber dafür umso motivierteren) Maiwanderung ein! Unser Ziel? Der wunderschöne Dutenhofener See. \nDas Programm für den perfekten Tag: Wir starten um 10:00 Uhr am Parkplatz der SWG und machen uns mit vollen Bollerwagen auf den Weg. Was dich erwartet? Bestes Wetter (wir haben es bestellt!)\, kalte Drinks\, gute Musik und die beste Gesellschaft Gießens. \nWas wir bieten & was du mitbringst: \n\nVon uns: Der RAUSCH e.V. stellt einen Grundstock an Getränken und die Bollerwagen zur Verfügung.\nVon dir: Gute Laune und alles\, worauf du sonst noch Lust hast (Snacks\, spezielle Drinks etc.).\nSpecial: Bring gerne deine Freunde mit! Je größer die Truppe\, desto besser die Stimmung.\n\nWichtig für die Planung: Damit wir genug Getränke einkaufen und die Bollerwagen-Kapazitäten planen können\, melde dich bitte kurz über unsere Umfrage an: 👉   	Hier zur Anmeldung (Google Forms) \nNoch kein Mitglied? 🔓 Du feierst gerne mit uns\, bist aber noch nicht im Verein? Die Maiwanderung ist die perfekte Chance\, uns ganz unverbindlich kennenzulernen. Und wenn es dir gefällt (wovon wir ausgehen!)\, kannst du hier direkt deinen Antrag ausfüllen:   	Mitglied werden \nWir freuen uns auf einen legendären Marsch mit euch!
URL:https://rausch-ev.de/event/maiwanderung-2026/
LOCATION:Parkplatz der SWG Gießen\, Lahnstraße 31\, Gießen\, 35398\, Germany
CATEGORIES:öffentlich
ATTACH;FMTTYPE=image/png:https://rausch-ev.de/wp-content/uploads/2026/03/Gemini_Generated_Image_j720z5j720z5j720.png
ORGANIZER;CN="RAUSCH e.V.":MAILTO:info@rausch-ev.de
END:VEVENT
BEGIN:VEVENT
DTSTART;TZID=Europe/Berlin:20260703T150000
DTEND;TZID=Europe/Berlin:20260705T130000
DTSTAMP:20260420T113720
CREATED:20251214T131321Z
LAST-MODIFIED:20260224T085542Z
UID:315-1783090800-1783256400@rausch-ev.de
SUMMARY:BIER-Wochenende 2026
DESCRIPTION:Auch 2026 ist es wieder so weit:Unser legendäres BIER-Wochenende an der Schäferburg in Solms geht in die nächste Runde! Ein ganzes Wochenende voller guter Laune\, kalter Getränke\, entspannter Gespräche und genau dieser besonderen Stimmung\, die entsteht\, wenn die richtigen Leute zur richtigen Zeit am richtigen Ort zusammenkommen. \n \nTickets und weitere Informationen zu Ablauf und Inhalt findest du direkt in unserem Ticketshop! \n👉 Mitglied werden lohnt sich übrigens gleich doppelt:Du unterstützt nicht nur den Verein\, sondern sicherst dir auch ein vergünstigtes Ticket und bekommst alle Infos als Erste*r. Klingt fair? Finden wir auch.Den Mitgliedsantrag kannst du direkt hier herunterladen und ausfüllen – dauert nicht lang und macht sich spätestens beim Ticketpreis bezahlt. \nJetzt Mitglied werden & sparen \nEgal ob du schon Stammgast bist oder zum ersten Mal reinschnupperst:Block dir den Termin jetzt schon fett im Kalender.Das Bier-Wochenende ist keine Veranstaltung\, die man „mal schauen“ nennt –das ist die Sorte Wochenende\, über die man danach noch wochenlang redet. \nKurz gesagt:Gutes Bier. Gute Leute. Gute Zeiten.Diese Party willst du nicht verpassen. \nSICHERE DIR JETZT DEIN TICKET
URL:https://rausch-ev.de/event/bier-wochenende-2026/
LOCATION:Grillhütte Schäferburg\, Solms\, Hessen\, 35606\, Germany
CATEGORIES:öffentlich,Party
ATTACH;FMTTYPE=image/jpeg:https://rausch-ev.de/wp-content/uploads/2025/12/IMG-20250810-WA0032-e1771923305866.jpg
ORGANIZER;CN="RAUSCH e.V.":MAILTO:info@rausch-ev.de
END:VEVENT
BEGIN:VEVENT
DTSTART;TZID=Europe/Berlin:20260718T100000
DTEND;TZID=Europe/Berlin:20260718T200000
DTSTAMP:20260420T113720
CREATED:20260216T084808Z
LAST-MODIFIED:20260224T090525Z
UID:436-1784368800-1784404800@rausch-ev.de
SUMMARY:Fußballtennis in Tiefenbach 2026 – RAUSCH e.V. tritt an!
DESCRIPTION:Am Samstag\, den 18.07.2026\, steigt wieder das beliebte Fußballtennis Tiefenbach 2026 – das traditionelle Sommerturnier desTC Tiefenbach. \n👉 Alle Infos zum Veranstalter findet ihr hier \nWie bereits im letzten Jahr wird auch der RAUSCH e.V. beim Fußballtennis Tiefenbach 2026 ein eigenes Team stellen – und zwar mit voller Motivation\, sportlichem Ehrgeiz und selbstverständlich einer gewissen hopfenathletischen Grundfitness. \nFußballtennis verbindet Technik\, Teamgeist und Timing. Gespielt wird im Team\, mit schnellen Ballwechseln über das Netz – irgendwo zwischen Fußball\, Volleyball und „na los\, einer geht noch“. \nDas Turnier hat sich in den letzten Jahren zu einem festen Bestandteil des regionalen Sommerkalenders entwickelt. Es geht nicht nur ums Gewinnen – sondern um Gemeinschaft\, Spaß und einen Tag voller guter Begegnungen. \nOb ambitionierte Spieler:innen oder motivierte Unterstützer:innen am Spielfeldrand: Beim Fußballtennis Tiefenbach 2026 ist jede Person willkommen\, die Lust auf Bewegung\, Austausch und Vereinsleben hat. \n\nMitspielen oder RAUSCH unterstützen?\nDu möchtest mit uns für den RAUSCH e.V. antreten?Oder uns vor Ort unterstützen? \nDann melde dich unkompliziert per Mail:📧info@rausch-ev.de \nWir koordinieren die Anmeldung gesammelt als Team. \n\nNoch kein Mitglied?\nWenn du Lust hast\, nicht nur beim Fußballtennis Tiefenbach 2026\, sondern auch darüber hinaus Teil unserer Gemeinschaft zu sein\, dann werde Mitglied im RAUSCH e.V. \n👉 Hier geht’s direkt zum Mitgliedsantrag \n\nWir freuen uns auf euch!\nDas Fußballtennis Tiefenbach 2026 wird wieder ein Highlight des Sommers – sportlich\, gemeinschaftlich und mit bester Stimmung. Markiert euch den 18.07.2026 im Kalender und seid dabei\, wenn der Ball über das Netz fliegt. \nRAUSCH e.V. tritt an.\nSei Dabei!
URL:https://rausch-ev.de/event/fussbaltennis-tiefenbach-2026/
LOCATION:Tennisheim Tiefenbach\, Tiefenbacher Str.\, Braunfels\, Hessen\, 35619\, Germany
CATEGORIES:Externe Veranstaltungen,öffentlich
ATTACH;FMTTYPE=image/webp:https://rausch-ev.de/wp-content/uploads/2026/02/523814862_17871313005403724_3194696656455362259_n-e1771923717570.webp
ORGANIZER;CN="TC Tiefenbach 1978 e.V.":MAILTO:sportwart@tc-tiefenbach.de
END:VEVENT
END:VCALENDAR